BEGIN:VCALENDAR
VERSION:2.0
PRODID:-//Tukios.com/
BEGIN:VEVENT
UID:bcc5e85b-cbc3-48e0-b1eb-91bb57b6c117@www.sumnerfuneral.com
DTSTAMP:20260422T152451Z
DTSTART:20260529T183000Z
DTEND:20260529T193000Z
SUMMARY:Celebration of Life
DESCRIPTION:
URL:https://www.sumnerfuneral.com/obituaries/eddie-hayes-jr
LOCATION:Country Hills Golf Club 1501 Saundersville Rd  Hendersonville TN 
	37075
GEO:36.3479815;-86.5599006
END:VEVENT
END:VCALENDAR