BEGIN:VCALENDAR
VERSION:2.0
PRODID:-//Tukios.com/
BEGIN:VEVENT
UID:ebdcff6a-8320-473d-8c32-80ca189372dc@www.sumnerfuneral.com
DTSTAMP:20260421T212037Z
DTSTART:20260516T150000Z
DTEND:20260516T160000Z
SUMMARY:Visitation
DESCRIPTION:
URL:https://www.sumnerfuneral.com/obituaries/marilyn-k-melancon
LOCATION:Our Lady of the Lake Catholic Church 1729 Stop 30 Rd  
	Hendersonville TN 37075
GEO:36.333154;-86.5869901
END:VEVENT
END:VCALENDAR