BEGIN:VCALENDAR
VERSION:2.0
PRODID:-//Tukios.com/
BEGIN:VEVENT
UID:37808131-72c3-4f2d-b81d-1a2ad391b8d9@www.sumnerfuneral.com
DTSTAMP:20260421T211646Z
DTSTART:20260516T160000Z
DTEND:20260516T170000Z
SUMMARY:Funeral Mass
DESCRIPTION:
URL:https://www.sumnerfuneral.com/obituaries/marilyn-k-melancon
LOCATION: 1729 Stop 30 Rd  Hendersonville TN 37075
GEO:36.333154;-86.5869901
END:VEVENT
END:VCALENDAR